BEGIN:VCALENDAR
VERSION:2.0
PRODID:-//Companion Bridge - ECPv6.15.20//NONSGML v1.0//EN
CALSCALE:GREGORIAN
METHOD:PUBLISH
X-ORIGINAL-URL:https://companionbridge.org
X-WR-CALDESC:Events for Companion Bridge
REFRESH-INTERVAL;VALUE=DURATION:PT1H
X-Robots-Tag:noindex
X-PUBLISHED-TTL:PT1H
BEGIN:VTIMEZONE
TZID:America/New_York
BEGIN:DAYLIGHT
TZOFFSETFROM:-0500
TZOFFSETTO:-0400
TZNAME:EDT
DTSTART:20170312T070000
END:DAYLIGHT
BEGIN:STANDARD
TZOFFSETFROM:-0400
TZOFFSETTO:-0500
TZNAME:EST
DTSTART:20171105T060000
END:STANDARD
BEGIN:DAYLIGHT
TZOFFSETFROM:-0500
TZOFFSETTO:-0400
TZNAME:EDT
DTSTART:20180311T070000
END:DAYLIGHT
BEGIN:STANDARD
TZOFFSETFROM:-0400
TZOFFSETTO:-0500
TZNAME:EST
DTSTART:20181104T060000
END:STANDARD
BEGIN:DAYLIGHT
TZOFFSETFROM:-0500
TZOFFSETTO:-0400
TZNAME:EDT
DTSTART:20190310T070000
END:DAYLIGHT
BEGIN:STANDARD
TZOFFSETFROM:-0400
TZOFFSETTO:-0500
TZNAME:EST
DTSTART:20191103T060000
END:STANDARD
END:VTIMEZONE
BEGIN:VEVENT
DTSTART;TZID=America/New_York:20180211T100000
DTEND;TZID=America/New_York:20180211T130000
DTSTAMP:20260419T160539
CREATED:20180202T130012Z
LAST-MODIFIED:20180202T130032Z
UID:6065-1518343200-1518354000@companionbridge.org
SUMMARY:Pet Valu Crofton Fun Day
DESCRIPTION:Come out to Pet Valu and try your luck at some of our fun games. Shop for toys and yummy items for your companion pet and chat with some of our volunteers.
URL:https://companionbridge.org/event/pet-valu-crofton-fun-day/
LOCATION:Pet Valu\, 1308 Main Chapel Way\, Gambrills\, MD\, 21054\, United States
END:VEVENT
END:VCALENDAR