BEGIN:VCALENDAR
VERSION:2.0
PRODID:-//Companion Bridge - ECPv6.15.20//NONSGML v1.0//EN
CALSCALE:GREGORIAN
METHOD:PUBLISH
X-ORIGINAL-URL:https://companionbridge.org
X-WR-CALDESC:Events for Companion Bridge
REFRESH-INTERVAL;VALUE=DURATION:PT1H
X-Robots-Tag:noindex
X-PUBLISHED-TTL:PT1H
BEGIN:VTIMEZONE
TZID:America/New_York
BEGIN:DAYLIGHT
TZOFFSETFROM:-0500
TZOFFSETTO:-0400
TZNAME:EDT
DTSTART:20160313T070000
END:DAYLIGHT
BEGIN:STANDARD
TZOFFSETFROM:-0400
TZOFFSETTO:-0500
TZNAME:EST
DTSTART:20161106T060000
END:STANDARD
BEGIN:DAYLIGHT
TZOFFSETFROM:-0500
TZOFFSETTO:-0400
TZNAME:EDT
DTSTART:20170312T070000
END:DAYLIGHT
BEGIN:STANDARD
TZOFFSETFROM:-0400
TZOFFSETTO:-0500
TZNAME:EST
DTSTART:20171105T060000
END:STANDARD
BEGIN:DAYLIGHT
TZOFFSETFROM:-0500
TZOFFSETTO:-0400
TZNAME:EDT
DTSTART:20180311T070000
END:DAYLIGHT
BEGIN:STANDARD
TZOFFSETFROM:-0400
TZOFFSETTO:-0500
TZNAME:EST
DTSTART:20181104T060000
END:STANDARD
END:VTIMEZONE
BEGIN:VEVENT
DTSTART;TZID=America/New_York:20171107T170000
DTEND;TZID=America/New_York:20171107T220000
DTSTAMP:20260419T211707
CREATED:20171017T130352Z
LAST-MODIFIED:20171105T174246Z
UID:5846-1510074000-1510092000@companionbridge.org
SUMMARY:Fundraiser Dinner at Brian Boru\, Severna Park MD
DESCRIPTION:Join us for dinner! Order from the evenings special 3 course $25 menu and $10 out of each meal will go to Companion Bridge.
URL:https://companionbridge.org/event/fundraiser-dinner-at-brian-boru-severna-park-md/
LOCATION:Brian Boru\, 489 Ritchie Hwy\, Severan Park\, MD\, 21146\, United States
END:VEVENT
END:VCALENDAR